BEGIN:VCALENDAR
VERSION:2.0
PRODID:-//ChamberMaster//Event Calendar 2.0//EN
METHOD:PUBLISH
X-PUBLISHED-TTL:P3D
REFRESH-INTERVAL:P3D
CALSCALE:GREGORIAN
BEGIN:VEVENT
DTSTART:20190126T000000Z
DTEND:20190126T030000Z
X-MICROSOFT-CDO-ALLDAYEVENT:FALSE
SUMMARY:Cocktail Party at The Museum
DESCRIPTION:The Washington-Wilkes Historical Foundation invites you to join them for a  COCKTAIL PARTY AT THE MUSEUM and ANTIQUES ROADSHOW-STYLE APPRAISALS OF YOUR TREASURES! \n\nFriday\, January 25\, from 7pm to 10pm at the Washington Historical Museum\n\n2018 Historical Foundation members - Free Admission\n\nNon-Members - Admission is the price of joining the Historical Foundation ($20 individual or $30 family).
X-ALT-DESC;FMTTYPE=text/html:<span aria-live="polite" class="fbPhotosPhotoCaption" data-ft="{&quot\;tn&quot\;:&quot\;K&quot\;}" id="fbPhotoSnowliftCaption" style="outline: none\; display: inline\; width: auto\; font-size: 14px\; line-height: 18px\; font-family: Helvetica\, Arial\, sans-serif\; color: rgb(28\, 30\, 33)\; background-color: rgb(255\, 255\, 255)\;" tabindex="0"><span class="hasCaption" style="font-family: inherit\;">The Washington-Wilkes Historical Foundation invites you to join them for a&nbsp\;&nbsp\;COCKTAIL PARTY AT THE MUSEUM and ANTIQUES ROADSHOW-STYLE APPRAISALS OF YOUR TREASURES!&nbsp\;<br />\nFriday\, January 25\, from 7pm to 10pm at the Washington Historical Museum<br />\n2018 Historical Foundation members - Free Admission<br />\nNon-Members - Admission is the price of joining the Historical Foundation ($20 individual or $30 family).</span></span>\n<div>&nbsp\;</div>\n
LOCATION:Washington Historical Museum 308 E Robert Toombs Ave Washington\, Georgia
UID:e.2812.1382
SEQUENCE:3
DTSTAMP:20260421T104152Z
URL:https://www.washingtonwilkes.org/events/details/cocktail-party-at-the-museum-1382
END:VEVENT

END:VCALENDAR
