BEGIN:VCALENDAR
VERSION:2.0
PRODID:-//ChamberMaster//Event Calendar 2.0//EN
METHOD:PUBLISH
X-PUBLISHED-TTL:P3D
REFRESH-INTERVAL:P3D
CALSCALE:GREGORIAN
BEGIN:VEVENT
DTSTART:20170924T183000Z
DTEND:20170924T220000Z
X-MICROSOFT-CDO-ALLDAYEVENT:FALSE
SUMMARY:Jackson Chapel A.M.E.Church - 150th Anniversary
DESCRIPTION:Jackson Chapel A.M.E. Church\, the oldest church in Wilkes County to be built by freed men\, celebrates 150 years of Washington's history. Speaker: Bishop Reginald T. Jackson. Dinner immediately following service at Edward B Pope Conference Center.
X-ALT-DESC;FMTTYPE=text/html:Jackson Chapel A.M.E. Church\, the oldest church in Wilkes County to be built by freed men\, celebrates 150 years of Washington&#39\;s history. Speaker: Bishop Reginald T. Jackson. Dinner immediately following service at Edward B Pope Conference Center.&nbsp\;&nbsp\;&nbsp\;&nbsp\;
LOCATION:Service: 318 Whitehall Street\, Washington\, Georgia Dinner: 48B Lexington Avenue\, Washington Georgia
UID:e.2812.53
SEQUENCE:3
DTSTAMP:20260420T121400Z
URL:https://www.washingtonwilkes.org/events/details/jackson-chapel-a-m-e-church-150th-anniversary-53
END:VEVENT

END:VCALENDAR
