BEGIN:VCALENDAR
VERSION:2.0
PRODID:-//ChamberMaster//Event Calendar 2.0//EN
METHOD:PUBLISH
X-PUBLISHED-TTL:P3D
REFRESH-INTERVAL:P3D
CALSCALE:GREGORIAN
BEGIN:VEVENT
DTSTART;VALUE=DATE:20260425
DTEND;VALUE=DATE:20260426
TRANSP:TRANSPARENT
X-MICROSOFT-CDO-ALLDAYEVENT:TRUE
SUMMARY:Lost Gold 5k & Fun Run 2026
DESCRIPTION:Come out and join the fun for the 5K and Fun Run. 5K timed by Run the Tangents Timming\n\nFriday 3-7 Packet/ Tshirt Pickup. \n\nSaturday Check in starts at 8:30/ Race at 10. \n\n11:30 Awards Presentation. \n\nNoonTailgate on the Square- Bring your picnic or grab lunch locally.
X-ALT-DESC;FMTTYPE=text/html:Come out and join the fun for the 5K and Fun Run. 5K timed by Run the Tangents Timming<br />\nFriday 3-7 Packet/ Tshirt Pickup.&nbsp\;<br />\nSaturday Check in starts at 8:30/ Race at 10.&nbsp\;<br />\n11:30 Awards Presentation.&nbsp\;<br />\nNoonTailgate on the Square- Bring your picnic or grab lunch locally.&nbsp\;&nbsp\;
LOCATION:23 East Court Street\, Washington GA Sign up in front of the Courthouse
UID:e.2812.4253
SEQUENCE:3
DTSTAMP:20260421T102840Z
URL:https://www.washingtonwilkes.org/events/details/lost-gold-5k-fun-run-2026-4253
END:VEVENT

END:VCALENDAR
